BEGIN:VCALENDAR
PRODID:-//Microsoft Corporation//Outlook 15.0 MIMEDIR//EN
VERSION:2.0
METHOD:REQUEST
X-MS-OLK-FORCEINSPECTOROPEN:TRUE
BEGIN:VTIMEZONE
TZID:Eastern Standard Time
BEGIN:STANDARD
DTSTART:16011104T020000
RRULE:FREQ=YEARLY;BYDAY=1SU;BYMONTH=11
TZOFFSETFROM:-0400
TZOFFSETTO:-0500
END:STANDARD
BEGIN:DAYLIGHT
DTSTART:16010311T020000
RRULE:FREQ=YEARLY;BYDAY=2SU;BYMONTH=3
TZOFFSETFROM:-0500
TZOFFSETTO:-0400
END:DAYLIGHT
END:VTIMEZONE
BEGIN:VEVENT
ATTENDEE;CN="Shehab Moustafa";RSVP=TRUE:mailto:SMoustafa@trucking.org
CLASS:PUBLIC
CREATED:20210217T165011Z
DESCRIPTION:\n_____________________________________________________________
	___________________\nMicrosoft Teams meeting\nJoin on your computer or mob
	ile app\nClick here to join the meeting<https://teams.microsoft.com/l/meet
	up-join/19%3ameeting_ZThhNTI3MmItOTdlMy00MmQ5LWEzNjItMzdhNTMyZjQ1YTEw%40th
	read.v2/0?context=%7b%22Tid%22%3a%22b61c289a-0a4d-41c2-9ee1-ee7993d9d38a%2
	2%2c%22Oid%22%3a%221036c21a-59d3-437d-bdf2-909381b5c2a8%22%7d>\nOr call in
	 (audio only)\n+1 703-719-4689\,\,847503222#<tel:+17037194689\,\,847503222
	>   United States\, Arlington\n(888) 304-9471\,\,847503222#<tel:8883049471
	\,\,847503222>   United States (Toll-free)\nPhone Conference ID: 847 503 2
	22#\nFind a local number<https://dialin.teams.microsoft.com/da0754b1-740e-
	4634-98ca-abdd3aca50fa?id=847503222> | Reset PIN<https://mysettings.lync.c
	om/pstnconferencing>\n[https://mce.trucking.org/images/ATA%20Logo_120px.pn
	g]\nLearn More<https://aka.ms/JoinTeamsMeeting> | Meeting options<https://
	teams.microsoft.com/meetingOptions/?organizerId=1036c21a-59d3-437d-bdf2-90
	9381b5c2a8&tenantId=b61c289a-0a4d-41c2-9ee1-ee7993d9d38a&threadId=19_meeti
	ng_ZThhNTI3MmItOTdlMy00MmQ5LWEzNjItMzdhNTMyZjQ1YTEw@thread.v2&messageId=0&
	language=en-US>\n_________________________________________________________
	_______________________\n\n\n
DTEND;TZID="Eastern Standard Time":20210414T140000
DTSTAMP:20210217T164709Z
DTSTART;TZID="Eastern Standard Time":20210414T130000
LAST-MODIFIED:20210217T165011Z
LOCATION:Microsoft Teams Meeting
ORGANIZER;CN="Robert Braswell":mailto:RBraswel@trucking.org
PRIORITY:5
SEQUENCE:0
SUMMARY;LANGUAGE=en-us:S5-Hiring Military Personnel TMC21S
TRANSP:OPAQUE
UID:040000008200E00074C5B7101A82E0080000000060A0AD832205D701000000000000000
	0100000002A6B7430D1A41A46B96ED426A114C230
X-ALT-DESC;FMTTYPE=text/html:<!DOCTYPE HTML PUBLIC "-//W3C//DTD HTML 3.2//E
	N">\n<HTML>\n<HEAD>\n<META NAME="Generator" CONTENT="MS Exchange Server ve
	rsion rmj.rmm.rup.rpr">\n<TITLE></TITLE>\n</HEAD>\n<BODY>\n<!-- Converted 
	from text/rtf format -->\n\n<P DIR=LTR><SPAN LANG="en-us"></SPAN></P>\n\n<
	P DIR=LTR><SPAN LANG="en-us"><FONT COLOR="#5F5F5F" FACE="Calibri">________
	_______________________________________________________________________</F
	ONT></SPAN><SPAN LANG="en-us"><FONT COLOR="#5F5F5F" FACE="Calibri">_</FONT
	></SPAN><SPAN LANG="en-us"><FONT FACE="Calibri"></FONT></SPAN><SPAN LANG="
	en-us"></SPAN><SPAN LANG="en-us"> </SPAN></P>\n\n<P DIR=LTR><SPAN LANG="en
	-us"></SPAN><SPAN LANG="en-us"></SPAN><SPAN LANG="en-us"><FONT COLOR="#252
	424" SIZE=5 FACE="Segoe UI">Microsoft Teams meeting</FONT></SPAN><SPAN LAN
	G="en-us"></SPAN><SPAN LANG="en-us"><FONT COLOR="#252424" FACE="Segoe UI">
	 </FONT></SPAN></P>\n\n<P DIR=LTR><SPAN LANG="en-us"><B></B></SPAN><SPAN L
	ANG="en-us"><B></B></SPAN><SPAN LANG="en-us"><B><FONT COLOR="#252424" FACE
	="Segoe UI">Join on your computer or mobile app</FONT></B></SPAN><SPAN LAN
	G="en-us"><B></B></SPAN><SPAN LANG="en-us"><B><FONT COLOR="#252424" FACE="
	Segoe UI"> </FONT></B></SPAN></P>\n\n<P DIR=LTR><SPAN LANG="en-us"></SPAN>
	<A HREF="https://teams.microsoft.com/l/meetup-join/19%3ameeting_ZThhNTI3Mm
	ItOTdlMy00MmQ5LWEzNjItMzdhNTMyZjQ1YTEw%40thread.v2/0?context=%7b%22Tid%22%
	3a%22b61c289a-0a4d-41c2-9ee1-ee7993d9d38a%22%2c%22Oid%22%3a%221036c21a-59d
	3-437d-bdf2-909381b5c2a8%22%7d"><SPAN LANG="en-us"></SPAN><SPAN LANG="en-u
	s"></SPAN><SPAN LANG="en-us"><U><FONT COLOR="#6264A7" FACE="Segoe UI Semib
	old">Click here to join the meeting</FONT></U></SPAN><SPAN LANG="en-us"></
	SPAN></A><SPAN LANG="en-us"></SPAN><SPAN LANG="en-us"><FONT COLOR="#252424
	" FACE="Segoe UI"> </FONT></SPAN></P>\n\n<P DIR=LTR><SPAN LANG="en-us"><B>
	</B></SPAN><SPAN LANG="en-us"><B></B></SPAN><SPAN LANG="en-us"><B><FONT CO
	LOR="#252424" FACE="Segoe UI">Or call in (audio only)</FONT></B></SPAN><SP
	AN LANG="en-us"></SPAN><SPAN LANG="en-us"><FONT COLOR="#252424" FACE="Sego
	e UI"> </FONT></SPAN></P>\n\n<P DIR=LTR><SPAN LANG="en-us"></SPAN><A HREF=
	"tel:+17037194689\,\,847503222"><SPAN LANG="en-us"></SPAN><SPAN LANG="en-u
	s"></SPAN><SPAN LANG="en-us"><U><FONT COLOR="#6264A7" FACE="Segoe UI">+1 7
	03-719-4689\,\,847503222#</FONT></U></SPAN><SPAN LANG="en-us"></SPAN></A><
	SPAN LANG="en-us"></SPAN><SPAN LANG="en-us"><FONT COLOR="#252424" FACE="Se
	goe UI"></FONT></SPAN><SPAN LANG="en-us"></SPAN><SPAN LANG="en-us"></SPAN>
	<SPAN LANG="en-us"> <FONT COLOR="#252424" FACE="Segoe UI">  United States
	\, Arlington</FONT></SPAN><SPAN LANG="en-us"></SPAN><SPAN LANG="en-us"> </
	SPAN></P>\n\n<P DIR=LTR><SPAN LANG="en-us"></SPAN><A HREF="tel:8883049471\
	,\,847503222"><SPAN LANG="en-us"></SPAN><SPAN LANG="en-us"></SPAN><SPAN LA
	NG="en-us"><U><FONT COLOR="#6264A7" FACE="Segoe UI">(888) 304-9471\,\,8475
	03222#</FONT></U></SPAN><SPAN LANG="en-us"></SPAN></A><SPAN LANG="en-us"><
	/SPAN><SPAN LANG="en-us"><FONT COLOR="#252424" FACE="Segoe UI"></FONT></SP
	AN><SPAN LANG="en-us"></SPAN><SPAN LANG="en-us"></SPAN><SPAN LANG="en-us">
	 <FONT COLOR="#252424" FACE="Segoe UI">  United States (Toll-free)</FONT>
	</SPAN><SPAN LANG="en-us"></SPAN><SPAN LANG="en-us"> </SPAN></P>\n\n<P DIR
	=LTR><SPAN LANG="en-us"></SPAN><SPAN LANG="en-us"></SPAN><SPAN LANG="en-us
	"><FONT COLOR="#252424" FACE="Segoe UI">Phone Conference ID:</FONT></SPAN>
	<SPAN LANG="en-us"></SPAN><SPAN LANG="en-us"> <FONT COLOR="#252424" FACE="
	Segoe UI">847 503 222# </FONT></SPAN></P>\n\n<P DIR=LTR><SPAN LANG="en-us"
	></SPAN><A HREF="https://dialin.teams.microsoft.com/da0754b1-740e-4634-98c
	a-abdd3aca50fa?id=847503222"><SPAN LANG="en-us"></SPAN><SPAN LANG="en-us">
	</SPAN><SPAN LANG="en-us"><U><FONT COLOR="#6264A7" FACE="Segoe UI">Find a 
	local number</FONT></U></SPAN><SPAN LANG="en-us"></SPAN></A><SPAN LANG="en
	-us"></SPAN><SPAN LANG="en-us"><FONT COLOR="#252424" FACE="Segoe UI"> |</F
	ONT></SPAN><SPAN LANG="en-us"> </SPAN><A HREF="https://mysettings.lync.com
	/pstnconferencing"><SPAN LANG="en-us"></SPAN><SPAN LANG="en-us"></SPAN><SP
	AN LANG="en-us"><U><FONT COLOR="#6264A7" FACE="Segoe UI">Reset PIN</FONT><
	/U></SPAN><SPAN LANG="en-us"></SPAN></A><SPAN LANG="en-us"></SPAN><SPAN LA
	NG="en-us"><FONT COLOR="#252424" FACE="Segoe UI"> </FONT></SPAN></P>\n\n<P
	 DIR=LTR><SPAN LANG="en-us"></SPAN><SPAN LANG="en-us"></SPAN><SPAN LANG="e
	n-us"></SPAN><SPAN LANG="en-us"></SPAN><SPAN LANG="en-us"></SPAN><SPAN LAN
	G="en-us"></SPAN><SPAN LANG="en-us"></SPAN></P>\n\n<P DIR=LTR><SPAN LANG="
	en-us"></SPAN><A HREF="https://aka.ms/JoinTeamsMeeting"><SPAN LANG="en-us"
	></SPAN><SPAN LANG="en-us"></SPAN><SPAN LANG="en-us"><U><FONT COLOR="#6264
	A7" FACE="Segoe UI">Learn More</FONT></U></SPAN><SPAN LANG="en-us"></SPAN>
	</A><SPAN LANG="en-us"></SPAN><SPAN LANG="en-us"><FONT COLOR="#252424" FAC
	E="Segoe UI"> |</FONT></SPAN><SPAN LANG="en-us"> </SPAN><A HREF="https://t
	eams.microsoft.com/meetingOptions/?organizerId=1036c21a-59d3-437d-bdf2-909
	381b5c2a8&amp\;tenantId=b61c289a-0a4d-41c2-9ee1-ee7993d9d38a&amp\;threadId
	=19_meeting_ZThhNTI3MmItOTdlMy00MmQ5LWEzNjItMzdhNTMyZjQ1YTEw@thread.v2&amp
	\;messageId=0&amp\;language=en-US"><SPAN LANG="en-us"></SPAN><SPAN LANG="e
	n-us"></SPAN><SPAN LANG="en-us"><U><FONT COLOR="#6264A7" FACE="Segoe UI">M
	eeting options</FONT></U></SPAN><SPAN LANG="en-us"></SPAN></A><SPAN LANG="
	en-us"></SPAN><SPAN LANG="en-us"><FONT COLOR="#252424" FACE="Segoe UI"></F
	ONT></SPAN><SPAN LANG="en-us"></SPAN><SPAN LANG="en-us"></SPAN><SPAN LANG=
	"en-us"> </SPAN></P>\n\n<P DIR=LTR><SPAN LANG="en-us"><FONT COLOR="#5F5F5F
	" FACE="Calibri">_________________________________________________________
	______________________</FONT></SPAN><SPAN LANG="en-us"><FONT COLOR="#5F5F5
	F" FACE="Calibri">_</FONT></SPAN><SPAN LANG="en-us"><FONT FACE="Calibri"><
	/FONT></SPAN><SPAN LANG="en-us"></SPAN><SPAN LANG="en-us"> </SPAN></P>\n\n
	<P DIR=LTR><SPAN LANG="en-us"></SPAN></P>\n\n</BODY>\n</HTML>
X-MICROSOFT-CDO-BUSYSTATUS:BUSY
X-MICROSOFT-CDO-IMPORTANCE:1
X-MICROSOFT-DISALLOW-COUNTER:FALSE
X-MS-OLK-APPTSEQTIME:20210217T164709Z
X-MS-OLK-AUTOFILLLOCATION:FALSE
X-MS-OLK-CONFTYPE:0
X-MS-OLK-SENDER;CN="Robert Braswell":mailto:RBraswel@trucking.org
BEGIN:VALARM
TRIGGER:-PT15M
ACTION:DISPLAY
DESCRIPTION:Reminder
END:VALARM
END:VEVENT
END:VCALENDAR
